BEGIN:VCALENDAR
VERSION:2.0
PRODID:-//EFG Laubach - ECPv6.15.17//NONSGML v1.0//EN
CALSCALE:GREGORIAN
METHOD:PUBLISH
X-WR-CALNAME:EFG Laubach
X-ORIGINAL-URL:https://efg-laubach.de
X-WR-CALDESC:Veranstaltungen für EFG Laubach
REFRESH-INTERVAL;VALUE=DURATION:PT1H
X-Robots-Tag:noindex
X-PUBLISHED-TTL:PT1H
BEGIN:VTIMEZONE
TZID:Europe/Berlin
BEGIN:DAYLIGHT
TZOFFSETFROM:+0100
TZOFFSETTO:+0200
TZNAME:CEST
DTSTART:20250330T010000
END:DAYLIGHT
BEGIN:STANDARD
TZOFFSETFROM:+0200
TZOFFSETTO:+0100
TZNAME:CET
DTSTART:20251026T010000
END:STANDARD
BEGIN:DAYLIGHT
TZOFFSETFROM:+0100
TZOFFSETTO:+0200
TZNAME:CEST
DTSTART:20260329T010000
END:DAYLIGHT
BEGIN:STANDARD
TZOFFSETFROM:+0200
TZOFFSETTO:+0100
TZNAME:CET
DTSTART:20261025T010000
END:STANDARD
BEGIN:DAYLIGHT
TZOFFSETFROM:+0100
TZOFFSETTO:+0200
TZNAME:CEST
DTSTART:20270328T010000
END:DAYLIGHT
BEGIN:STANDARD
TZOFFSETFROM:+0200
TZOFFSETTO:+0100
TZNAME:CET
DTSTART:20271031T010000
END:STANDARD
END:VTIMEZONE
BEGIN:VEVENT
DTSTART;TZID=Europe/Berlin:20261001T170000
DTEND;TZID=Europe/Berlin:20261001T180000
DTSTAMP:20260421T144332
CREATED:20260420T212319Z
LAST-MODIFIED:20260420T212319Z
UID:103188-1790874000-1790877600@efg-laubach.de
SUMMARY:Jungschar
DESCRIPTION:
URL:https://efg-laubach.de/termin/jungschar-29/
END:VEVENT
BEGIN:VEVENT
DTSTART;TZID=Europe/Berlin:20261001T170000
DTEND;TZID=Europe/Berlin:20261001T180000
DTSTAMP:20260421T144332
CREATED:20260420T212319Z
LAST-MODIFIED:20260420T212319Z
UID:103189-1790874000-1790877600@efg-laubach.de
SUMMARY:Teenkreis
DESCRIPTION:
URL:https://efg-laubach.de/termin/teenkreis-29/
END:VEVENT
BEGIN:VEVENT
DTSTART;TZID=Europe/Berlin:20261001T170000
DTEND;TZID=Europe/Berlin:20261001T180000
DTSTAMP:20260421T144332
CREATED:20260420T212319Z
LAST-MODIFIED:20260420T212319Z
UID:103190-1790874000-1790877600@efg-laubach.de
SUMMARY:Hauskreis Junge Erwachsene
DESCRIPTION:
URL:https://efg-laubach.de/termin/hauskreis-junge-erwachsene-37/
END:VEVENT
BEGIN:VEVENT
DTSTART;TZID=Europe/Berlin:20261004T100000
DTEND;TZID=Europe/Berlin:20261004T101500
DTSTAMP:20260421T144332
CREATED:20260420T212319Z
LAST-MODIFIED:20260420T212319Z
UID:103191-1791108000-1791108900@efg-laubach.de
SUMMARY:Gebetstreff
DESCRIPTION:
URL:https://efg-laubach.de/termin/gebetstreff-38/
LOCATION:EFG Laubach\, Dörrenbergweg 36\, Laubach\, Hessen\, 35321\, Deutschland
END:VEVENT
BEGIN:VEVENT
DTSTART;TZID=Europe/Berlin:20261004T103000
DTEND;TZID=Europe/Berlin:20261004T120000
DTSTAMP:20260421T144332
CREATED:20260420T212319Z
LAST-MODIFIED:20260420T212319Z
UID:103193-1791109800-1791115200@efg-laubach.de
SUMMARY:Erntedank Gottesdienst
DESCRIPTION:
URL:https://efg-laubach.de/termin/erntedank-gottesdienst/
LOCATION:EFG Laubach\, Dörrenbergweg 36\, Laubach\, Hessen\, 35321\, Deutschland
END:VEVENT
BEGIN:VEVENT
DTSTART;TZID=Europe/Berlin:20261004T110000
DTEND;TZID=Europe/Berlin:20261004T120000
DTSTAMP:20260421T144332
CREATED:20260420T212319Z
LAST-MODIFIED:20260420T212319Z
UID:103192-1791111600-1791115200@efg-laubach.de
SUMMARY:Kinderstunde
DESCRIPTION:
URL:https://efg-laubach.de/termin/kinderstunde-30/
END:VEVENT
BEGIN:VEVENT
DTSTART;VALUE=DATE:20261005
DTEND;VALUE=DATE:20261017
DTSTAMP:20260421T144332
CREATED:20260420T212320Z
LAST-MODIFIED:20260420T212320Z
UID:103200-1791158400-1792195199@efg-laubach.de
SUMMARY:Ferien
DESCRIPTION:
URL:https://efg-laubach.de/termin/ferien-4/
END:VEVENT
BEGIN:VEVENT
DTSTART;TZID=Europe/Berlin:20261006T100000
DTEND;TZID=Europe/Berlin:20261006T120000
DTSTAMP:20260421T144332
CREATED:20260420T212319Z
LAST-MODIFIED:20260420T212319Z
UID:103194-1791280800-1791288000@efg-laubach.de
SUMMARY:Mutter Kind treffen
DESCRIPTION:
URL:https://efg-laubach.de/termin/mutter-kind-treffen-41/
END:VEVENT
BEGIN:VEVENT
DTSTART;TZID=Europe/Berlin:20261007T190000
DTEND;TZID=Europe/Berlin:20261007T203000
DTSTAMP:20260421T144332
CREATED:20260420T212319Z
LAST-MODIFIED:20260420T212319Z
UID:103195-1791399600-1791405000@efg-laubach.de
SUMMARY:Bibelabend
DESCRIPTION:
URL:https://efg-laubach.de/termin/bibelabend-34/
LOCATION:EFG Laubach\, Dörrenbergweg 36\, Laubach\, Hessen\, 35321\, Deutschland
END:VEVENT
BEGIN:VEVENT
DTSTART;TZID=Europe/Berlin:20261008T170000
DTEND;TZID=Europe/Berlin:20261008T180000
DTSTAMP:20260421T144332
CREATED:20260420T212320Z
LAST-MODIFIED:20260420T212320Z
UID:103196-1791478800-1791482400@efg-laubach.de
SUMMARY:Hauskreis Junge Erwachsene
DESCRIPTION:
URL:https://efg-laubach.de/termin/hauskreis-junge-erwachsene-38/
END:VEVENT
BEGIN:VEVENT
DTSTART;TZID=Europe/Berlin:20261011T100000
DTEND;TZID=Europe/Berlin:20261011T101500
DTSTAMP:20260421T144332
CREATED:20260420T212320Z
LAST-MODIFIED:20260420T212320Z
UID:103197-1791712800-1791713700@efg-laubach.de
SUMMARY:Gebetstreff
DESCRIPTION:
URL:https://efg-laubach.de/termin/gebetstreff-39/
LOCATION:EFG Laubach\, Dörrenbergweg 36\, Laubach\, Hessen\, 35321\, Deutschland
END:VEVENT
BEGIN:VEVENT
DTSTART;TZID=Europe/Berlin:20261011T103000
DTEND;TZID=Europe/Berlin:20261011T120000
DTSTAMP:20260421T144332
CREATED:20260420T212320Z
LAST-MODIFIED:20260420T212320Z
UID:103198-1791714600-1791720000@efg-laubach.de
SUMMARY:Gottesdienst mit Abendmahl
DESCRIPTION:
URL:https://efg-laubach.de/termin/gottesdienst-mit-abendmahl-10/
LOCATION:EFG Laubach\, Dörrenbergweg 36\, Laubach\, Hessen\, 35321\, Deutschland
END:VEVENT
BEGIN:VEVENT
DTSTART;TZID=Europe/Berlin:20261012T190000
DTEND;TZID=Europe/Berlin:20261012T210000
DTSTAMP:20260421T144332
CREATED:20260420T212320Z
LAST-MODIFIED:20260420T212320Z
UID:103199-1791831600-1791838800@efg-laubach.de
SUMMARY:Gemeindeleitung
DESCRIPTION:
URL:https://efg-laubach.de/termin/gemeindeleitung-10/
LOCATION:Evangelisch-Freikirchliche Gemeinde\, Dörrenbergweg 37\, 35321 Laubach\, Deutschland
END:VEVENT
BEGIN:VEVENT
DTSTART;TZID=Europe/Berlin:20261013T100000
DTEND;TZID=Europe/Berlin:20261013T120000
DTSTAMP:20260421T144332
CREATED:20260420T212320Z
LAST-MODIFIED:20260420T212320Z
UID:103201-1791885600-1791892800@efg-laubach.de
SUMMARY:Mutter Kind treffen
DESCRIPTION:
URL:https://efg-laubach.de/termin/mutter-kind-treffen-42/
END:VEVENT
BEGIN:VEVENT
DTSTART;TZID=Europe/Berlin:20261014T190000
DTEND;TZID=Europe/Berlin:20261014T203000
DTSTAMP:20260421T144332
CREATED:20260420T212320Z
LAST-MODIFIED:20260420T212320Z
UID:103202-1792004400-1792009800@efg-laubach.de
SUMMARY:Bibelabend
DESCRIPTION:
URL:https://efg-laubach.de/termin/bibelabend-35/
LOCATION:EFG Laubach\, Dörrenbergweg 36\, Laubach\, Hessen\, 35321\, Deutschland
END:VEVENT
BEGIN:VEVENT
DTSTART;TZID=Europe/Berlin:20261015T170000
DTEND;TZID=Europe/Berlin:20261015T180000
DTSTAMP:20260421T144332
CREATED:20260420T212320Z
LAST-MODIFIED:20260420T212320Z
UID:103203-1792083600-1792087200@efg-laubach.de
SUMMARY:Hauskreis Junge Erwachsene
DESCRIPTION:
URL:https://efg-laubach.de/termin/hauskreis-junge-erwachsene-39/
END:VEVENT
BEGIN:VEVENT
DTSTART;TZID=Europe/Berlin:20261018T100000
DTEND;TZID=Europe/Berlin:20261018T101500
DTSTAMP:20260421T144332
CREATED:20260420T212321Z
LAST-MODIFIED:20260420T212321Z
UID:103204-1792317600-1792318500@efg-laubach.de
SUMMARY:Gebetstreff
DESCRIPTION:
URL:https://efg-laubach.de/termin/gebetstreff-40/
LOCATION:EFG Laubach\, Dörrenbergweg 36\, Laubach\, Hessen\, 35321\, Deutschland
END:VEVENT
BEGIN:VEVENT
DTSTART;TZID=Europe/Berlin:20261018T103000
DTEND;TZID=Europe/Berlin:20261018T120000
DTSTAMP:20260421T144332
CREATED:20260420T212321Z
LAST-MODIFIED:20260420T212321Z
UID:103205-1792319400-1792324800@efg-laubach.de
SUMMARY:Gottesdienst
DESCRIPTION:
URL:https://efg-laubach.de/termin/gottesdienst-30/
LOCATION:EFG Laubach\, Dörrenbergweg 36\, Laubach\, Hessen\, 35321\, Deutschland
END:VEVENT
BEGIN:VEVENT
DTSTART;TZID=Europe/Berlin:20261020T100000
DTEND;TZID=Europe/Berlin:20261020T120000
DTSTAMP:20260421T144332
CREATED:20260420T212321Z
LAST-MODIFIED:20260420T212321Z
UID:103206-1792490400-1792497600@efg-laubach.de
SUMMARY:Mutter Kind treffen
DESCRIPTION:
URL:https://efg-laubach.de/termin/mutter-kind-treffen-43/
END:VEVENT
BEGIN:VEVENT
DTSTART;TZID=Europe/Berlin:20261021T190000
DTEND;TZID=Europe/Berlin:20261021T203000
DTSTAMP:20260421T144332
CREATED:20260420T212321Z
LAST-MODIFIED:20260420T212321Z
UID:103207-1792609200-1792614600@efg-laubach.de
SUMMARY:Bibelabend
DESCRIPTION:
URL:https://efg-laubach.de/termin/bibelabend-36/
LOCATION:EFG Laubach\, Dörrenbergweg 36\, Laubach\, Hessen\, 35321\, Deutschland
END:VEVENT
BEGIN:VEVENT
DTSTART;TZID=Europe/Berlin:20261022T170000
DTEND;TZID=Europe/Berlin:20261022T180000
DTSTAMP:20260421T144332
CREATED:20260420T212321Z
LAST-MODIFIED:20260420T212321Z
UID:103208-1792688400-1792692000@efg-laubach.de
SUMMARY:Teenkreis
DESCRIPTION:
URL:https://efg-laubach.de/termin/teenkreis-30/
END:VEVENT
BEGIN:VEVENT
DTSTART;TZID=Europe/Berlin:20261022T170000
DTEND;TZID=Europe/Berlin:20261022T180000
DTSTAMP:20260421T144332
CREATED:20260420T212321Z
LAST-MODIFIED:20260420T212321Z
UID:103209-1792688400-1792692000@efg-laubach.de
SUMMARY:Jungschar
DESCRIPTION:
URL:https://efg-laubach.de/termin/jungschar-30/
END:VEVENT
BEGIN:VEVENT
DTSTART;TZID=Europe/Berlin:20261022T170000
DTEND;TZID=Europe/Berlin:20261022T180000
DTSTAMP:20260421T144332
CREATED:20260420T212321Z
LAST-MODIFIED:20260420T212321Z
UID:103210-1792688400-1792692000@efg-laubach.de
SUMMARY:Hauskreis Junge Erwachsene
DESCRIPTION:
URL:https://efg-laubach.de/termin/hauskreis-junge-erwachsene-40/
END:VEVENT
BEGIN:VEVENT
DTSTART;TZID=Europe/Berlin:20261024T180000
DTEND;TZID=Europe/Berlin:20261024T200000
DTSTAMP:20260421T144332
CREATED:20260420T212321Z
LAST-MODIFIED:20260420T212321Z
UID:103211-1792864800-1792872000@efg-laubach.de
SUMMARY:Mitarbeitertreff Prediger
DESCRIPTION:
URL:https://efg-laubach.de/termin/mitarbeitertreff-prediger/
LOCATION:Laubach\nHessen\, Deutschland
END:VEVENT
BEGIN:VEVENT
DTSTART;TZID=Europe/Berlin:20261025T100000
DTEND;TZID=Europe/Berlin:20261025T101500
DTSTAMP:20260421T144332
CREATED:20260420T212321Z
LAST-MODIFIED:20260420T212321Z
UID:103212-1792922400-1792923300@efg-laubach.de
SUMMARY:Gebetstreff
DESCRIPTION:
URL:https://efg-laubach.de/termin/gebetstreff-41/
LOCATION:EFG Laubach\, Dörrenbergweg 36\, Laubach\, Hessen\, 35321\, Deutschland
END:VEVENT
BEGIN:VEVENT
DTSTART;TZID=Europe/Berlin:20261025T103000
DTEND;TZID=Europe/Berlin:20261025T120000
DTSTAMP:20260421T144332
CREATED:20260420T212321Z
LAST-MODIFIED:20260420T212321Z
UID:103214-1792924200-1792929600@efg-laubach.de
SUMMARY:Gottesdienst
DESCRIPTION:
URL:https://efg-laubach.de/termin/gottesdienst-31/
LOCATION:EFG Laubach\, Dörrenbergweg 36\, Laubach\, Hessen\, 35321\, Deutschland
END:VEVENT
BEGIN:VEVENT
DTSTART;TZID=Europe/Berlin:20261025T110000
DTEND;TZID=Europe/Berlin:20261025T120000
DTSTAMP:20260421T144332
CREATED:20260420T212321Z
LAST-MODIFIED:20260420T212321Z
UID:103213-1792926000-1792929600@efg-laubach.de
SUMMARY:Kinderstunde
DESCRIPTION:
URL:https://efg-laubach.de/termin/kinderstunde-31/
END:VEVENT
BEGIN:VEVENT
DTSTART;TZID=Europe/Berlin:20261027T100000
DTEND;TZID=Europe/Berlin:20261027T120000
DTSTAMP:20260421T144332
CREATED:20260420T212321Z
LAST-MODIFIED:20260420T212321Z
UID:103215-1793095200-1793102400@efg-laubach.de
SUMMARY:Mutter Kind treffen
DESCRIPTION:
URL:https://efg-laubach.de/termin/mutter-kind-treffen-44/
END:VEVENT
BEGIN:VEVENT
DTSTART;TZID=Europe/Berlin:20261028T190000
DTEND;TZID=Europe/Berlin:20261028T203000
DTSTAMP:20260421T144332
CREATED:20260420T212322Z
LAST-MODIFIED:20260420T212322Z
UID:103216-1793214000-1793219400@efg-laubach.de
SUMMARY:Bibelabend
DESCRIPTION:
URL:https://efg-laubach.de/termin/bibelabend-37/
LOCATION:EFG Laubach\, Dörrenbergweg 36\, Laubach\, Hessen\, 35321\, Deutschland
END:VEVENT
BEGIN:VEVENT
DTSTART;TZID=Europe/Berlin:20261029T170000
DTEND;TZID=Europe/Berlin:20261029T180000
DTSTAMP:20260421T144332
CREATED:20260420T212322Z
LAST-MODIFIED:20260420T212322Z
UID:103219-1793293200-1793296800@efg-laubach.de
SUMMARY:Hauskreis Junge Erwachsene
DESCRIPTION:
URL:https://efg-laubach.de/termin/hauskreis-junge-erwachsene-41/
END:VEVENT
END:VCALENDAR