BEGIN:VCALENDAR
VERSION:2.0
PRODID:-//EFG Laubach - ECPv6.15.17//NONSGML v1.0//EN
CALSCALE:GREGORIAN
METHOD:PUBLISH
X-ORIGINAL-URL:https://efg-laubach.de
X-WR-CALDESC:Veranstaltungen für EFG Laubach
REFRESH-INTERVAL;VALUE=DURATION:PT1H
X-Robots-Tag:noindex
X-PUBLISHED-TTL:PT1H
BEGIN:VTIMEZONE
TZID:Europe/Berlin
BEGIN:DAYLIGHT
TZOFFSETFROM:+0100
TZOFFSETTO:+0200
TZNAME:CEST
DTSTART:20250330T010000
END:DAYLIGHT
BEGIN:STANDARD
TZOFFSETFROM:+0200
TZOFFSETTO:+0100
TZNAME:CET
DTSTART:20251026T010000
END:STANDARD
BEGIN:DAYLIGHT
TZOFFSETFROM:+0100
TZOFFSETTO:+0200
TZNAME:CEST
DTSTART:20260329T010000
END:DAYLIGHT
BEGIN:STANDARD
TZOFFSETFROM:+0200
TZOFFSETTO:+0100
TZNAME:CET
DTSTART:20261025T010000
END:STANDARD
BEGIN:DAYLIGHT
TZOFFSETFROM:+0100
TZOFFSETTO:+0200
TZNAME:CEST
DTSTART:20270328T010000
END:DAYLIGHT
BEGIN:STANDARD
TZOFFSETFROM:+0200
TZOFFSETTO:+0100
TZNAME:CET
DTSTART:20271031T010000
END:STANDARD
END:VTIMEZONE
BEGIN:VEVENT
DTSTART;TZID=Europe/Berlin:20260901T100000
DTEND;TZID=Europe/Berlin:20260901T120000
DTSTAMP:20260421T144523
CREATED:20260420T212315Z
LAST-MODIFIED:20260420T212315Z
UID:103148-1788256800-1788264000@efg-laubach.de
SUMMARY:Mutter Kind treffen
DESCRIPTION:
URL:https://efg-laubach.de/termin/mutter-kind-treffen-36/
END:VEVENT
BEGIN:VEVENT
DTSTART;TZID=Europe/Berlin:20260902T190000
DTEND;TZID=Europe/Berlin:20260902T203000
DTSTAMP:20260421T144523
CREATED:20260420T212315Z
LAST-MODIFIED:20260420T212315Z
UID:103149-1788375600-1788381000@efg-laubach.de
SUMMARY:Bibelabend
DESCRIPTION:
URL:https://efg-laubach.de/termin/bibelabend-29/
LOCATION:EFG Laubach\, Dörrenbergweg 36\, Laubach\, Hessen\, 35321\, Deutschland
END:VEVENT
BEGIN:VEVENT
DTSTART;TZID=Europe/Berlin:20260903T170000
DTEND;TZID=Europe/Berlin:20260903T180000
DTSTAMP:20260421T144523
CREATED:20260420T212315Z
LAST-MODIFIED:20260420T212315Z
UID:103150-1788454800-1788458400@efg-laubach.de
SUMMARY:Teenkreis
DESCRIPTION:
URL:https://efg-laubach.de/termin/teenkreis-25/
END:VEVENT
BEGIN:VEVENT
DTSTART;TZID=Europe/Berlin:20260903T170000
DTEND;TZID=Europe/Berlin:20260903T180000
DTSTAMP:20260421T144523
CREATED:20260420T212315Z
LAST-MODIFIED:20260420T212315Z
UID:103151-1788454800-1788458400@efg-laubach.de
SUMMARY:Jungschar
DESCRIPTION:
URL:https://efg-laubach.de/termin/jungschar-25/
END:VEVENT
BEGIN:VEVENT
DTSTART;TZID=Europe/Berlin:20260903T170000
DTEND;TZID=Europe/Berlin:20260903T180000
DTSTAMP:20260421T144523
CREATED:20260420T212316Z
LAST-MODIFIED:20260420T212316Z
UID:103152-1788454800-1788458400@efg-laubach.de
SUMMARY:Hauskreis Junge Erwachsene
DESCRIPTION:
URL:https://efg-laubach.de/termin/hauskreis-junge-erwachsene-33/
END:VEVENT
BEGIN:VEVENT
DTSTART;VALUE=DATE:20260904
DTEND;VALUE=DATE:20260907
DTSTAMP:20260421T144523
CREATED:20260420T212316Z
LAST-MODIFIED:20260420T212316Z
UID:103154-1788480000-1788739199@efg-laubach.de
SUMMARY:Teen-Freizeit
DESCRIPTION:
URL:https://efg-laubach.de/termin/teen-freizeit/
END:VEVENT
BEGIN:VEVENT
DTSTART;TZID=Europe/Berlin:20260906T100000
DTEND;TZID=Europe/Berlin:20260906T101500
DTSTAMP:20260421T144523
CREATED:20260420T212316Z
LAST-MODIFIED:20260420T212316Z
UID:103155-1788688800-1788689700@efg-laubach.de
SUMMARY:Gebetstreff
DESCRIPTION:
URL:https://efg-laubach.de/termin/gebetstreff-34/
LOCATION:EFG Laubach\, Dörrenbergweg 36\, Laubach\, Hessen\, 35321\, Deutschland
END:VEVENT
BEGIN:VEVENT
DTSTART;TZID=Europe/Berlin:20260906T103000
DTEND;TZID=Europe/Berlin:20260906T120000
DTSTAMP:20260421T144523
CREATED:20260420T212316Z
LAST-MODIFIED:20260420T212316Z
UID:103156-1788690600-1788696000@efg-laubach.de
SUMMARY:Gottesdienst mit Abendmahl
DESCRIPTION:
URL:https://efg-laubach.de/termin/gottesdienst-mit-abendmahl-9/
LOCATION:EFG Laubach\, Dörrenbergweg 36\, Laubach\, Hessen\, 35321\, Deutschland
END:VEVENT
BEGIN:VEVENT
DTSTART;TZID=Europe/Berlin:20260906T110000
DTEND;TZID=Europe/Berlin:20260906T120000
DTSTAMP:20260421T144523
CREATED:20260420T212316Z
LAST-MODIFIED:20260420T212316Z
UID:103153-1788692400-1788696000@efg-laubach.de
SUMMARY:Kinderstunde
DESCRIPTION:
URL:https://efg-laubach.de/termin/kinderstunde-26/
END:VEVENT
BEGIN:VEVENT
DTSTART;TZID=Europe/Berlin:20260906T180000
DTEND;TZID=Europe/Berlin:20260906T190000
DTSTAMP:20260421T144523
CREATED:20260420T212316Z
LAST-MODIFIED:20260420T212316Z
UID:103157-1788717600-1788721200@efg-laubach.de
SUMMARY:Mitgliederversammlung
DESCRIPTION:
URL:https://efg-laubach.de/termin/mitgliederversammlung-2/
LOCATION:Laubach
END:VEVENT
BEGIN:VEVENT
DTSTART;TZID=Europe/Berlin:20260908T100000
DTEND;TZID=Europe/Berlin:20260908T120000
DTSTAMP:20260421T144523
CREATED:20260420T212316Z
LAST-MODIFIED:20260420T212316Z
UID:103158-1788861600-1788868800@efg-laubach.de
SUMMARY:Mutter Kind treffen
DESCRIPTION:
URL:https://efg-laubach.de/termin/mutter-kind-treffen-37/
END:VEVENT
BEGIN:VEVENT
DTSTART;TZID=Europe/Berlin:20260909T190000
DTEND;TZID=Europe/Berlin:20260909T203000
DTSTAMP:20260421T144523
CREATED:20260420T212316Z
LAST-MODIFIED:20260420T212316Z
UID:103159-1788980400-1788985800@efg-laubach.de
SUMMARY:Bibelabend
DESCRIPTION:
URL:https://efg-laubach.de/termin/bibelabend-30/
LOCATION:EFG Laubach\, Dörrenbergweg 36\, Laubach\, Hessen\, 35321\, Deutschland
END:VEVENT
BEGIN:VEVENT
DTSTART;TZID=Europe/Berlin:20260910T170000
DTEND;TZID=Europe/Berlin:20260910T180000
DTSTAMP:20260421T144523
CREATED:20260420T212316Z
LAST-MODIFIED:20260420T212316Z
UID:103160-1789059600-1789063200@efg-laubach.de
SUMMARY:Hauskreis Junge Erwachsene
DESCRIPTION:
URL:https://efg-laubach.de/termin/hauskreis-junge-erwachsene-34/
END:VEVENT
BEGIN:VEVENT
DTSTART;TZID=Europe/Berlin:20260910T170000
DTEND;TZID=Europe/Berlin:20260910T180000
DTSTAMP:20260421T144523
CREATED:20260420T212316Z
LAST-MODIFIED:20260420T212316Z
UID:103161-1789059600-1789063200@efg-laubach.de
SUMMARY:Teenkreis
DESCRIPTION:
URL:https://efg-laubach.de/termin/teenkreis-26/
END:VEVENT
BEGIN:VEVENT
DTSTART;TZID=Europe/Berlin:20260910T170000
DTEND;TZID=Europe/Berlin:20260910T180000
DTSTAMP:20260421T144523
CREATED:20260420T212316Z
LAST-MODIFIED:20260420T212316Z
UID:103162-1789059600-1789063200@efg-laubach.de
SUMMARY:Jungschar
DESCRIPTION:
URL:https://efg-laubach.de/termin/jungschar-26/
END:VEVENT
BEGIN:VEVENT
DTSTART;TZID=Europe/Berlin:20260911T160000
DTEND;TZID=Europe/Berlin:20260912T180000
DTSTAMP:20260421T144523
CREATED:20260420T212317Z
LAST-MODIFIED:20260420T212317Z
UID:103163-1789142400-1789236000@efg-laubach.de
SUMMARY:Ratsklausur Gemeindeleitung
DESCRIPTION:
URL:https://efg-laubach.de/termin/ratsklausur-gemeindeleitung/
END:VEVENT
BEGIN:VEVENT
DTSTART;TZID=Europe/Berlin:20260913T100000
DTEND;TZID=Europe/Berlin:20260913T101500
DTSTAMP:20260421T144523
CREATED:20260420T212317Z
LAST-MODIFIED:20260420T212317Z
UID:103164-1789293600-1789294500@efg-laubach.de
SUMMARY:Gebetstreff
DESCRIPTION:
URL:https://efg-laubach.de/termin/gebetstreff-35/
LOCATION:EFG Laubach\, Dörrenbergweg 36\, Laubach\, Hessen\, 35321\, Deutschland
END:VEVENT
BEGIN:VEVENT
DTSTART;TZID=Europe/Berlin:20260913T103000
DTEND;TZID=Europe/Berlin:20260913T120000
DTSTAMP:20260421T144523
CREATED:20260420T212317Z
LAST-MODIFIED:20260420T212317Z
UID:103166-1789295400-1789300800@efg-laubach.de
SUMMARY:Gottesdienst
DESCRIPTION:
URL:https://efg-laubach.de/termin/gottesdienst-27/
LOCATION:EFG Laubach\, Dörrenbergweg 36\, Laubach\, Hessen\, 35321\, Deutschland
END:VEVENT
BEGIN:VEVENT
DTSTART;TZID=Europe/Berlin:20260913T110000
DTEND;TZID=Europe/Berlin:20260913T120000
DTSTAMP:20260421T144523
CREATED:20260420T212317Z
LAST-MODIFIED:20260420T212317Z
UID:103165-1789297200-1789300800@efg-laubach.de
SUMMARY:Kinderstunde
DESCRIPTION:
URL:https://efg-laubach.de/termin/kinderstunde-27/
END:VEVENT
BEGIN:VEVENT
DTSTART;TZID=Europe/Berlin:20260914T190000
DTEND;TZID=Europe/Berlin:20260914T210000
DTSTAMP:20260421T144523
CREATED:20260420T212317Z
LAST-MODIFIED:20260420T212317Z
UID:103167-1789412400-1789419600@efg-laubach.de
SUMMARY:Gemeindeleitung
DESCRIPTION:
URL:https://efg-laubach.de/termin/gemeindeleitung-9/
LOCATION:Evangelisch-Freikirchliche Gemeinde\, Dörrenbergweg 37\, 35321 Laubach\, Deutschland
END:VEVENT
BEGIN:VEVENT
DTSTART;TZID=Europe/Berlin:20260915T100000
DTEND;TZID=Europe/Berlin:20260915T120000
DTSTAMP:20260421T144523
CREATED:20260420T212317Z
LAST-MODIFIED:20260420T212317Z
UID:103168-1789466400-1789473600@efg-laubach.de
SUMMARY:Mutter Kind treffen
DESCRIPTION:
URL:https://efg-laubach.de/termin/mutter-kind-treffen-38/
END:VEVENT
BEGIN:VEVENT
DTSTART;TZID=Europe/Berlin:20260916T190000
DTEND;TZID=Europe/Berlin:20260916T203000
DTSTAMP:20260421T144523
CREATED:20260420T212317Z
LAST-MODIFIED:20260420T212317Z
UID:103169-1789585200-1789590600@efg-laubach.de
SUMMARY:Bibelabend
DESCRIPTION:
URL:https://efg-laubach.de/termin/bibelabend-31/
LOCATION:EFG Laubach\, Dörrenbergweg 36\, Laubach\, Hessen\, 35321\, Deutschland
END:VEVENT
BEGIN:VEVENT
DTSTART;TZID=Europe/Berlin:20260917T170000
DTEND;TZID=Europe/Berlin:20260917T180000
DTSTAMP:20260421T144523
CREATED:20260420T212317Z
LAST-MODIFIED:20260420T212317Z
UID:103170-1789664400-1789668000@efg-laubach.de
SUMMARY:Teenkreis
DESCRIPTION:
URL:https://efg-laubach.de/termin/teenkreis-27/
END:VEVENT
BEGIN:VEVENT
DTSTART;TZID=Europe/Berlin:20260917T170000
DTEND;TZID=Europe/Berlin:20260917T180000
DTSTAMP:20260421T144523
CREATED:20260420T212317Z
LAST-MODIFIED:20260420T212317Z
UID:103171-1789664400-1789668000@efg-laubach.de
SUMMARY:Hauskreis Junge Erwachsene
DESCRIPTION:
URL:https://efg-laubach.de/termin/hauskreis-junge-erwachsene-35/
END:VEVENT
BEGIN:VEVENT
DTSTART;TZID=Europe/Berlin:20260917T170000
DTEND;TZID=Europe/Berlin:20260917T180000
DTSTAMP:20260421T144523
CREATED:20260420T212317Z
LAST-MODIFIED:20260420T212317Z
UID:103172-1789664400-1789668000@efg-laubach.de
SUMMARY:Jungschar
DESCRIPTION:
URL:https://efg-laubach.de/termin/jungschar-27/
END:VEVENT
BEGIN:VEVENT
DTSTART;TZID=Europe/Berlin:20260918T180000
DTEND;TZID=Europe/Berlin:20260918T190000
DTSTAMP:20260421T144523
CREATED:20260420T212317Z
LAST-MODIFIED:20260420T212317Z
UID:103173-1789754400-1789758000@efg-laubach.de
SUMMARY:Lobpreisteamtreffen
DESCRIPTION:
URL:https://efg-laubach.de/termin/lobpreisteamtreffen/
LOCATION:Dörrenbergweg\, 35321 Laubach\, Deutschland
END:VEVENT
BEGIN:VEVENT
DTSTART;TZID=Europe/Berlin:20260920T100000
DTEND;TZID=Europe/Berlin:20260920T101500
DTSTAMP:20260421T144523
CREATED:20260420T212318Z
LAST-MODIFIED:20260420T212318Z
UID:103174-1789898400-1789899300@efg-laubach.de
SUMMARY:Gebetstreff
DESCRIPTION:
URL:https://efg-laubach.de/termin/gebetstreff-36/
LOCATION:EFG Laubach\, Dörrenbergweg 36\, Laubach\, Hessen\, 35321\, Deutschland
END:VEVENT
BEGIN:VEVENT
DTSTART;TZID=Europe/Berlin:20260920T103000
DTEND;TZID=Europe/Berlin:20260920T120000
DTSTAMP:20260421T144523
CREATED:20260420T212318Z
LAST-MODIFIED:20260420T212318Z
UID:103176-1789900200-1789905600@efg-laubach.de
SUMMARY:Gottesdienst
DESCRIPTION:
URL:https://efg-laubach.de/termin/gottesdienst-28/
LOCATION:EFG Laubach\, Dörrenbergweg 36\, Laubach\, Hessen\, 35321\, Deutschland
END:VEVENT
BEGIN:VEVENT
DTSTART;TZID=Europe/Berlin:20260920T110000
DTEND;TZID=Europe/Berlin:20260920T120000
DTSTAMP:20260421T144523
CREATED:20260420T212318Z
LAST-MODIFIED:20260420T212318Z
UID:103175-1789902000-1789905600@efg-laubach.de
SUMMARY:Kinderstunde
DESCRIPTION:
URL:https://efg-laubach.de/termin/kinderstunde-28/
END:VEVENT
BEGIN:VEVENT
DTSTART;TZID=Europe/Berlin:20260922T100000
DTEND;TZID=Europe/Berlin:20260922T120000
DTSTAMP:20260421T144523
CREATED:20260420T212318Z
LAST-MODIFIED:20260420T212318Z
UID:103177-1790071200-1790078400@efg-laubach.de
SUMMARY:Mutter Kind treffen
DESCRIPTION:
URL:https://efg-laubach.de/termin/mutter-kind-treffen-39/
END:VEVENT
END:VCALENDAR