BEGIN:VCALENDAR
VERSION:2.0
PRODID:-//EFG Laubach - ECPv6.15.17//NONSGML v1.0//EN
CALSCALE:GREGORIAN
METHOD:PUBLISH
X-WR-CALNAME:EFG Laubach
X-ORIGINAL-URL:https://efg-laubach.de
X-WR-CALDESC:Veranstaltungen für EFG Laubach
REFRESH-INTERVAL;VALUE=DURATION:PT1H
X-Robots-Tag:noindex
X-PUBLISHED-TTL:PT1H
BEGIN:VTIMEZONE
TZID:Europe/Berlin
BEGIN:DAYLIGHT
TZOFFSETFROM:+0100
TZOFFSETTO:+0200
TZNAME:CEST
DTSTART:20250330T010000
END:DAYLIGHT
BEGIN:STANDARD
TZOFFSETFROM:+0200
TZOFFSETTO:+0100
TZNAME:CET
DTSTART:20251026T010000
END:STANDARD
BEGIN:DAYLIGHT
TZOFFSETFROM:+0100
TZOFFSETTO:+0200
TZNAME:CEST
DTSTART:20260329T010000
END:DAYLIGHT
BEGIN:STANDARD
TZOFFSETFROM:+0200
TZOFFSETTO:+0100
TZNAME:CET
DTSTART:20261025T010000
END:STANDARD
BEGIN:DAYLIGHT
TZOFFSETFROM:+0100
TZOFFSETTO:+0200
TZNAME:CEST
DTSTART:20270328T010000
END:DAYLIGHT
BEGIN:STANDARD
TZOFFSETFROM:+0200
TZOFFSETTO:+0100
TZNAME:CET
DTSTART:20271031T010000
END:STANDARD
END:VTIMEZONE
BEGIN:VEVENT
DTSTART;VALUE=DATE:20260629
DTEND;VALUE=DATE:20260808
DTSTAMP:20260421T114501
CREATED:20260420T212311Z
LAST-MODIFIED:20260420T212311Z
UID:103110-1782691200-1786147199@efg-laubach.de
SUMMARY:Ferien
DESCRIPTION:
URL:https://efg-laubach.de/termin/ferien-3/
END:VEVENT
BEGIN:VEVENT
DTSTART;TZID=Europe/Berlin:20260802T100000
DTEND;TZID=Europe/Berlin:20260802T101500
DTSTAMP:20260421T114501
CREATED:20260420T212312Z
LAST-MODIFIED:20260420T212312Z
UID:103117-1785664800-1785665700@efg-laubach.de
SUMMARY:Gebetstreff
DESCRIPTION:
URL:https://efg-laubach.de/termin/gebetstreff-30/
LOCATION:EFG Laubach\, Dörrenbergweg 36\, Laubach\, Hessen\, 35321\, Deutschland
END:VEVENT
BEGIN:VEVENT
DTSTART;TZID=Europe/Berlin:20260802T103000
DTEND;TZID=Europe/Berlin:20260802T120000
DTSTAMP:20260421T114501
CREATED:20260420T212312Z
LAST-MODIFIED:20260420T212312Z
UID:103118-1785666600-1785672000@efg-laubach.de
SUMMARY:Gottesdienst mit Abendmahl
DESCRIPTION:
URL:https://efg-laubach.de/termin/gottesdienst-mit-abendmahl-8/
LOCATION:EFG Laubach\, Dörrenbergweg 36\, Laubach\, Hessen\, 35321\, Deutschland
END:VEVENT
BEGIN:VEVENT
DTSTART;TZID=Europe/Berlin:20260804T100000
DTEND;TZID=Europe/Berlin:20260804T120000
DTSTAMP:20260421T114501
CREATED:20260420T212312Z
LAST-MODIFIED:20260420T212312Z
UID:103119-1785837600-1785844800@efg-laubach.de
SUMMARY:Mutter Kind treffen
DESCRIPTION:
URL:https://efg-laubach.de/termin/mutter-kind-treffen-32/
END:VEVENT
BEGIN:VEVENT
DTSTART;TZID=Europe/Berlin:20260805T190000
DTEND;TZID=Europe/Berlin:20260805T203000
DTSTAMP:20260421T114501
CREATED:20260420T212313Z
LAST-MODIFIED:20260420T212313Z
UID:103120-1785956400-1785961800@efg-laubach.de
SUMMARY:Bibelabend
DESCRIPTION:
URL:https://efg-laubach.de/termin/bibelabend-25/
LOCATION:EFG Laubach\, Dörrenbergweg 36\, Laubach\, Hessen\, 35321\, Deutschland
END:VEVENT
BEGIN:VEVENT
DTSTART;TZID=Europe/Berlin:20260806T190000
DTEND;TZID=Europe/Berlin:20260806T210000
DTSTAMP:20260421T114501
CREATED:20260420T212313Z
LAST-MODIFIED:20260420T212313Z
UID:103121-1786042800-1786050000@efg-laubach.de
SUMMARY:Hauskreis Junge Erwachsene
DESCRIPTION:
URL:https://efg-laubach.de/termin/hauskreis-junge-erwachsene-29/
END:VEVENT
BEGIN:VEVENT
DTSTART;TZID=Europe/Berlin:20260809T103000
DTEND;TZID=Europe/Berlin:20260809T183000
DTSTAMP:20260421T114501
CREATED:20260420T212313Z
LAST-MODIFIED:20260420T212313Z
UID:103122-1786271400-1786300200@efg-laubach.de
SUMMARY:Open Air Gottesdienst
DESCRIPTION:
URL:https://efg-laubach.de/termin/open-air-gottesdienst/
END:VEVENT
BEGIN:VEVENT
DTSTART;TZID=Europe/Berlin:20260811T100000
DTEND;TZID=Europe/Berlin:20260811T120000
DTSTAMP:20260421T114501
CREATED:20260420T212313Z
LAST-MODIFIED:20260420T212313Z
UID:103123-1786442400-1786449600@efg-laubach.de
SUMMARY:Mutter Kind treffen
DESCRIPTION:
URL:https://efg-laubach.de/termin/mutter-kind-treffen-33/
END:VEVENT
BEGIN:VEVENT
DTSTART;TZID=Europe/Berlin:20260812T190000
DTEND;TZID=Europe/Berlin:20260812T203000
DTSTAMP:20260421T114501
CREATED:20260420T212313Z
LAST-MODIFIED:20260420T212313Z
UID:103124-1786561200-1786566600@efg-laubach.de
SUMMARY:Bibelabend
DESCRIPTION:
URL:https://efg-laubach.de/termin/bibelabend-26/
LOCATION:EFG Laubach\, Dörrenbergweg 36\, Laubach\, Hessen\, 35321\, Deutschland
END:VEVENT
BEGIN:VEVENT
DTSTART;TZID=Europe/Berlin:20260813T170000
DTEND;TZID=Europe/Berlin:20260813T180000
DTSTAMP:20260421T114501
CREATED:20260420T212313Z
LAST-MODIFIED:20260420T212313Z
UID:103127-1786640400-1786644000@efg-laubach.de
SUMMARY:Jungschar
DESCRIPTION:
URL:https://efg-laubach.de/termin/jungschar-22/
END:VEVENT
BEGIN:VEVENT
DTSTART;TZID=Europe/Berlin:20260813T170000
DTEND;TZID=Europe/Berlin:20260813T180000
DTSTAMP:20260421T114501
CREATED:20260420T212313Z
LAST-MODIFIED:20260420T212313Z
UID:103125-1786640400-1786644000@efg-laubach.de
SUMMARY:Hauskreis Junge Erwachsene
DESCRIPTION:
URL:https://efg-laubach.de/termin/hauskreis-junge-erwachsene-30/
END:VEVENT
BEGIN:VEVENT
DTSTART;TZID=Europe/Berlin:20260813T170000
DTEND;TZID=Europe/Berlin:20260813T180000
DTSTAMP:20260421T114501
CREATED:20260420T212313Z
LAST-MODIFIED:20260420T212313Z
UID:103126-1786640400-1786644000@efg-laubach.de
SUMMARY:Teenkreis
DESCRIPTION:
URL:https://efg-laubach.de/termin/teenkreis-22/
END:VEVENT
BEGIN:VEVENT
DTSTART;TZID=Europe/Berlin:20260816T100000
DTEND;TZID=Europe/Berlin:20260816T101500
DTSTAMP:20260421T114501
CREATED:20260420T212313Z
LAST-MODIFIED:20260420T212313Z
UID:103128-1786874400-1786875300@efg-laubach.de
SUMMARY:Gebetstreff
DESCRIPTION:
URL:https://efg-laubach.de/termin/gebetstreff-31/
LOCATION:EFG Laubach\, Dörrenbergweg 36\, Laubach\, Hessen\, 35321\, Deutschland
END:VEVENT
BEGIN:VEVENT
DTSTART;TZID=Europe/Berlin:20260816T103000
DTEND;TZID=Europe/Berlin:20260816T120000
DTSTAMP:20260421T114501
CREATED:20260420T212313Z
LAST-MODIFIED:20260420T212313Z
UID:103130-1786876200-1786881600@efg-laubach.de
SUMMARY:Gottesdienst
DESCRIPTION:
URL:https://efg-laubach.de/termin/gottesdienst-24/
LOCATION:EFG Laubach\, Dörrenbergweg 36\, Laubach\, Hessen\, 35321\, Deutschland
END:VEVENT
BEGIN:VEVENT
DTSTART;TZID=Europe/Berlin:20260816T110000
DTEND;TZID=Europe/Berlin:20260816T120000
DTSTAMP:20260421T114501
CREATED:20260420T212313Z
LAST-MODIFIED:20260420T212313Z
UID:103129-1786878000-1786881600@efg-laubach.de
SUMMARY:Kinderstunde
DESCRIPTION:
URL:https://efg-laubach.de/termin/kinderstunde-23/
END:VEVENT
BEGIN:VEVENT
DTSTART;TZID=Europe/Berlin:20260817T190000
DTEND;TZID=Europe/Berlin:20260817T210000
DTSTAMP:20260421T114501
CREATED:20260420T212314Z
LAST-MODIFIED:20260420T212314Z
UID:103131-1786993200-1787000400@efg-laubach.de
SUMMARY:Gemeindeleitung
DESCRIPTION:
URL:https://efg-laubach.de/termin/gemeindeleitung-8/
LOCATION:Evangelisch-Freikirchliche Gemeinde\, Dörrenbergweg 37\, 35321 Laubach\, Deutschland
END:VEVENT
BEGIN:VEVENT
DTSTART;TZID=Europe/Berlin:20260818T100000
DTEND;TZID=Europe/Berlin:20260818T120000
DTSTAMP:20260421T114501
CREATED:20260420T212314Z
LAST-MODIFIED:20260420T212314Z
UID:103132-1787047200-1787054400@efg-laubach.de
SUMMARY:Mutter Kind treffen
DESCRIPTION:
URL:https://efg-laubach.de/termin/mutter-kind-treffen-34/
END:VEVENT
BEGIN:VEVENT
DTSTART;TZID=Europe/Berlin:20260819T190000
DTEND;TZID=Europe/Berlin:20260819T203000
DTSTAMP:20260421T114501
CREATED:20260420T212314Z
LAST-MODIFIED:20260420T212314Z
UID:103133-1787166000-1787171400@efg-laubach.de
SUMMARY:Bibelabend
DESCRIPTION:
URL:https://efg-laubach.de/termin/bibelabend-27/
LOCATION:EFG Laubach\, Dörrenbergweg 36\, Laubach\, Hessen\, 35321\, Deutschland
END:VEVENT
BEGIN:VEVENT
DTSTART;TZID=Europe/Berlin:20260820T170000
DTEND;TZID=Europe/Berlin:20260820T180000
DTSTAMP:20260421T114501
CREATED:20260420T212314Z
LAST-MODIFIED:20260420T212314Z
UID:103134-1787245200-1787248800@efg-laubach.de
SUMMARY:Hauskreis Junge Erwachsene
DESCRIPTION:
URL:https://efg-laubach.de/termin/hauskreis-junge-erwachsene-31/
END:VEVENT
BEGIN:VEVENT
DTSTART;TZID=Europe/Berlin:20260820T170000
DTEND;TZID=Europe/Berlin:20260820T180000
DTSTAMP:20260421T114501
CREATED:20260420T212314Z
LAST-MODIFIED:20260420T212314Z
UID:103135-1787245200-1787248800@efg-laubach.de
SUMMARY:Jungschar
DESCRIPTION:
URL:https://efg-laubach.de/termin/jungschar-23/
END:VEVENT
BEGIN:VEVENT
DTSTART;TZID=Europe/Berlin:20260820T170000
DTEND;TZID=Europe/Berlin:20260820T180000
DTSTAMP:20260421T114501
CREATED:20260420T212314Z
LAST-MODIFIED:20260420T212314Z
UID:103136-1787245200-1787248800@efg-laubach.de
SUMMARY:Teenkreis
DESCRIPTION:
URL:https://efg-laubach.de/termin/teenkreis-23/
END:VEVENT
BEGIN:VEVENT
DTSTART;TZID=Europe/Berlin:20260823T100000
DTEND;TZID=Europe/Berlin:20260823T101500
DTSTAMP:20260421T114501
CREATED:20260420T212314Z
LAST-MODIFIED:20260420T212314Z
UID:103137-1787479200-1787480100@efg-laubach.de
SUMMARY:Gebetstreff
DESCRIPTION:
URL:https://efg-laubach.de/termin/gebetstreff-32/
LOCATION:EFG Laubach\, Dörrenbergweg 36\, Laubach\, Hessen\, 35321\, Deutschland
END:VEVENT
BEGIN:VEVENT
DTSTART;TZID=Europe/Berlin:20260823T103000
DTEND;TZID=Europe/Berlin:20260823T120000
DTSTAMP:20260421T114501
CREATED:20260420T212314Z
LAST-MODIFIED:20260420T212314Z
UID:103138-1787481000-1787486400@efg-laubach.de
SUMMARY:Gottesdienst
DESCRIPTION:
URL:https://efg-laubach.de/termin/gottesdienst-25/
LOCATION:EFG Laubach\, Dörrenbergweg 36\, Laubach\, Hessen\, 35321\, Deutschland
END:VEVENT
BEGIN:VEVENT
DTSTART;TZID=Europe/Berlin:20260823T110000
DTEND;TZID=Europe/Berlin:20260823T120000
DTSTAMP:20260421T114501
CREATED:20260420T212314Z
LAST-MODIFIED:20260420T212314Z
UID:103139-1787482800-1787486400@efg-laubach.de
SUMMARY:Kinderstunde
DESCRIPTION:
URL:https://efg-laubach.de/termin/kinderstunde-24/
END:VEVENT
BEGIN:VEVENT
DTSTART;TZID=Europe/Berlin:20260825T100000
DTEND;TZID=Europe/Berlin:20260825T120000
DTSTAMP:20260421T114501
CREATED:20260420T212314Z
LAST-MODIFIED:20260420T212314Z
UID:103140-1787652000-1787659200@efg-laubach.de
SUMMARY:Mutter Kind treffen
DESCRIPTION:
URL:https://efg-laubach.de/termin/mutter-kind-treffen-35/
END:VEVENT
BEGIN:VEVENT
DTSTART;TZID=Europe/Berlin:20260826T190000
DTEND;TZID=Europe/Berlin:20260826T203000
DTSTAMP:20260421T114501
CREATED:20260420T212314Z
LAST-MODIFIED:20260420T212314Z
UID:103141-1787770800-1787776200@efg-laubach.de
SUMMARY:Bibelabend
DESCRIPTION:
URL:https://efg-laubach.de/termin/bibelabend-28/
LOCATION:EFG Laubach\, Dörrenbergweg 36\, Laubach\, Hessen\, 35321\, Deutschland
END:VEVENT
BEGIN:VEVENT
DTSTART;TZID=Europe/Berlin:20260827T170000
DTEND;TZID=Europe/Berlin:20260827T180000
DTSTAMP:20260421T114501
CREATED:20260420T212315Z
LAST-MODIFIED:20260420T212315Z
UID:103143-1787850000-1787853600@efg-laubach.de
SUMMARY:Teenkreis
DESCRIPTION:
URL:https://efg-laubach.de/termin/teenkreis-24/
END:VEVENT
BEGIN:VEVENT
DTSTART;TZID=Europe/Berlin:20260827T170000
DTEND;TZID=Europe/Berlin:20260827T180000
DTSTAMP:20260421T114501
CREATED:20260420T212315Z
LAST-MODIFIED:20260420T212315Z
UID:103144-1787850000-1787853600@efg-laubach.de
SUMMARY:Hauskreis Junge Erwachsene
DESCRIPTION:
URL:https://efg-laubach.de/termin/hauskreis-junge-erwachsene-32/
END:VEVENT
BEGIN:VEVENT
DTSTART;TZID=Europe/Berlin:20260827T170000
DTEND;TZID=Europe/Berlin:20260827T180000
DTSTAMP:20260421T114501
CREATED:20260420T212315Z
LAST-MODIFIED:20260420T212315Z
UID:103142-1787850000-1787853600@efg-laubach.de
SUMMARY:Jungschar
DESCRIPTION:
URL:https://efg-laubach.de/termin/jungschar-24/
END:VEVENT
BEGIN:VEVENT
DTSTART;TZID=Europe/Berlin:20260830T100000
DTEND;TZID=Europe/Berlin:20260830T101500
DTSTAMP:20260421T114501
CREATED:20260420T212315Z
LAST-MODIFIED:20260420T212315Z
UID:103145-1788084000-1788084900@efg-laubach.de
SUMMARY:Gebetstreff
DESCRIPTION:
URL:https://efg-laubach.de/termin/gebetstreff-33/
LOCATION:EFG Laubach\, Dörrenbergweg 36\, Laubach\, Hessen\, 35321\, Deutschland
END:VEVENT
END:VCALENDAR