BEGIN:VCALENDAR
VERSION:2.0
PRODID:-//EFG Laubach - ECPv6.15.17//NONSGML v1.0//EN
CALSCALE:GREGORIAN
METHOD:PUBLISH
X-WR-CALNAME:EFG Laubach
X-ORIGINAL-URL:https://efg-laubach.de
X-WR-CALDESC:Veranstaltungen für EFG Laubach
REFRESH-INTERVAL;VALUE=DURATION:PT1H
X-Robots-Tag:noindex
X-PUBLISHED-TTL:PT1H
BEGIN:VTIMEZONE
TZID:Europe/Berlin
BEGIN:DAYLIGHT
TZOFFSETFROM:+0100
TZOFFSETTO:+0200
TZNAME:CEST
DTSTART:20250330T010000
END:DAYLIGHT
BEGIN:STANDARD
TZOFFSETFROM:+0200
TZOFFSETTO:+0100
TZNAME:CET
DTSTART:20251026T010000
END:STANDARD
BEGIN:DAYLIGHT
TZOFFSETFROM:+0100
TZOFFSETTO:+0200
TZNAME:CEST
DTSTART:20260329T010000
END:DAYLIGHT
BEGIN:STANDARD
TZOFFSETFROM:+0200
TZOFFSETTO:+0100
TZNAME:CET
DTSTART:20261025T010000
END:STANDARD
BEGIN:DAYLIGHT
TZOFFSETFROM:+0100
TZOFFSETTO:+0200
TZNAME:CEST
DTSTART:20270328T010000
END:DAYLIGHT
BEGIN:STANDARD
TZOFFSETFROM:+0200
TZOFFSETTO:+0100
TZNAME:CET
DTSTART:20271031T010000
END:STANDARD
END:VTIMEZONE
BEGIN:VEVENT
DTSTART;VALUE=DATE:20260629
DTEND;VALUE=DATE:20260808
DTSTAMP:20260421T101924
CREATED:20260420T212311Z
LAST-MODIFIED:20260420T212311Z
UID:103110-1782691200-1786147199@efg-laubach.de
SUMMARY:Ferien
DESCRIPTION:
URL:https://efg-laubach.de/termin/ferien-3/
END:VEVENT
BEGIN:VEVENT
DTSTART;TZID=Europe/Berlin:20260701T190000
DTEND;TZID=Europe/Berlin:20260701T203000
DTSTAMP:20260421T101924
CREATED:20260420T212310Z
LAST-MODIFIED:20260420T212310Z
UID:103093-1782932400-1782937800@efg-laubach.de
SUMMARY:Bibelabend
DESCRIPTION:
URL:https://efg-laubach.de/termin/bibelabend-20/
LOCATION:EFG Laubach\, Dörrenbergweg 36\, Laubach\, Hessen\, 35321\, Deutschland
END:VEVENT
BEGIN:VEVENT
DTSTART;TZID=Europe/Berlin:20260702T190000
DTEND;TZID=Europe/Berlin:20260702T210000
DTSTAMP:20260421T101924
CREATED:20260420T212310Z
LAST-MODIFIED:20260420T212310Z
UID:103094-1783018800-1783026000@efg-laubach.de
SUMMARY:Hauskreis Junge Erwachsene
DESCRIPTION:
URL:https://efg-laubach.de/termin/hauskreis-junge-erwachsene-24/
END:VEVENT
BEGIN:VEVENT
DTSTART;TZID=Europe/Berlin:20260705T100000
DTEND;TZID=Europe/Berlin:20260705T101500
DTSTAMP:20260421T101924
CREATED:20260420T212310Z
LAST-MODIFIED:20260420T212310Z
UID:103095-1783245600-1783246500@efg-laubach.de
SUMMARY:Gebetstreff
DESCRIPTION:
URL:https://efg-laubach.de/termin/gebetstreff-26/
LOCATION:EFG Laubach\, Dörrenbergweg 36\, Laubach\, Hessen\, 35321\, Deutschland
END:VEVENT
BEGIN:VEVENT
DTSTART;TZID=Europe/Berlin:20260705T103000
DTEND;TZID=Europe/Berlin:20260705T120000
DTSTAMP:20260421T101924
CREATED:20260420T212310Z
LAST-MODIFIED:20260420T212310Z
UID:103096-1783247400-1783252800@efg-laubach.de
SUMMARY:Gottesdienst mit Abendmahl
DESCRIPTION:
URL:https://efg-laubach.de/termin/gottesdienst-mit-abendmahl-7/
LOCATION:EFG Laubach\, Dörrenbergweg 36\, Laubach\, Hessen\, 35321\, Deutschland
END:VEVENT
BEGIN:VEVENT
DTSTART;TZID=Europe/Berlin:20260706T190000
DTEND;TZID=Europe/Berlin:20260706T210000
DTSTAMP:20260421T101924
CREATED:20260420T212310Z
LAST-MODIFIED:20260420T212310Z
UID:103097-1783364400-1783371600@efg-laubach.de
SUMMARY:Gemeindeleitung
DESCRIPTION:
URL:https://efg-laubach.de/termin/gemeindeleitung-7/
LOCATION:Evangelisch-Freikirchliche Gemeinde\, Dörrenbergweg 37\, 35321 Laubach\, Deutschland
END:VEVENT
BEGIN:VEVENT
DTSTART;TZID=Europe/Berlin:20260707T100000
DTEND;TZID=Europe/Berlin:20260707T120000
DTSTAMP:20260421T101924
CREATED:20260420T212310Z
LAST-MODIFIED:20260420T212310Z
UID:103098-1783418400-1783425600@efg-laubach.de
SUMMARY:Mutter Kind treffen
DESCRIPTION:
URL:https://efg-laubach.de/termin/mutter-kind-treffen-28/
END:VEVENT
BEGIN:VEVENT
DTSTART;TZID=Europe/Berlin:20260708T190000
DTEND;TZID=Europe/Berlin:20260708T203000
DTSTAMP:20260421T101924
CREATED:20260420T212310Z
LAST-MODIFIED:20260420T212310Z
UID:103099-1783537200-1783542600@efg-laubach.de
SUMMARY:Bibelabend
DESCRIPTION:
URL:https://efg-laubach.de/termin/bibelabend-21/
LOCATION:EFG Laubach\, Dörrenbergweg 36\, Laubach\, Hessen\, 35321\, Deutschland
END:VEVENT
BEGIN:VEVENT
DTSTART;TZID=Europe/Berlin:20260709T190000
DTEND;TZID=Europe/Berlin:20260709T210000
DTSTAMP:20260421T101924
CREATED:20260420T212310Z
LAST-MODIFIED:20260420T212310Z
UID:103100-1783623600-1783630800@efg-laubach.de
SUMMARY:Hauskreis Junge Erwachsene
DESCRIPTION:
URL:https://efg-laubach.de/termin/hauskreis-junge-erwachsene-25/
END:VEVENT
BEGIN:VEVENT
DTSTART;TZID=Europe/Berlin:20260712T100000
DTEND;TZID=Europe/Berlin:20260712T101500
DTSTAMP:20260421T101924
CREATED:20260420T212311Z
LAST-MODIFIED:20260420T212311Z
UID:103101-1783850400-1783851300@efg-laubach.de
SUMMARY:Gebetstreff
DESCRIPTION:
URL:https://efg-laubach.de/termin/gebetstreff-27/
LOCATION:EFG Laubach\, Dörrenbergweg 36\, Laubach\, Hessen\, 35321\, Deutschland
END:VEVENT
BEGIN:VEVENT
DTSTART;TZID=Europe/Berlin:20260712T103000
DTEND;TZID=Europe/Berlin:20260712T120000
DTSTAMP:20260421T101924
CREATED:20260420T212311Z
LAST-MODIFIED:20260420T212311Z
UID:103102-1783852200-1783857600@efg-laubach.de
SUMMARY:Gottesdienst
DESCRIPTION:
URL:https://efg-laubach.de/termin/gottesdienst-21/
LOCATION:EFG Laubach\, Dörrenbergweg 36\, Laubach\, Hessen\, 35321\, Deutschland
END:VEVENT
BEGIN:VEVENT
DTSTART;TZID=Europe/Berlin:20260714T100000
DTEND;TZID=Europe/Berlin:20260714T120000
DTSTAMP:20260421T101924
CREATED:20260420T212311Z
LAST-MODIFIED:20260420T212311Z
UID:103103-1784023200-1784030400@efg-laubach.de
SUMMARY:Mutter Kind treffen
DESCRIPTION:
URL:https://efg-laubach.de/termin/mutter-kind-treffen-29/
END:VEVENT
BEGIN:VEVENT
DTSTART;TZID=Europe/Berlin:20260715T190000
DTEND;TZID=Europe/Berlin:20260715T203000
DTSTAMP:20260421T101924
CREATED:20260420T212311Z
LAST-MODIFIED:20260420T212311Z
UID:103104-1784142000-1784147400@efg-laubach.de
SUMMARY:Bibelabend
DESCRIPTION:
URL:https://efg-laubach.de/termin/bibelabend-22/
LOCATION:EFG Laubach\, Dörrenbergweg 36\, Laubach\, Hessen\, 35321\, Deutschland
END:VEVENT
BEGIN:VEVENT
DTSTART;TZID=Europe/Berlin:20260716T190000
DTEND;TZID=Europe/Berlin:20260716T210000
DTSTAMP:20260421T101924
CREATED:20260420T212311Z
LAST-MODIFIED:20260420T212311Z
UID:103105-1784228400-1784235600@efg-laubach.de
SUMMARY:Hauskreis Junge Erwachsene
DESCRIPTION:
URL:https://efg-laubach.de/termin/hauskreis-junge-erwachsene-26/
END:VEVENT
BEGIN:VEVENT
DTSTART;TZID=Europe/Berlin:20260719T100000
DTEND;TZID=Europe/Berlin:20260719T101500
DTSTAMP:20260421T101924
CREATED:20260420T212311Z
LAST-MODIFIED:20260420T212311Z
UID:103106-1784455200-1784456100@efg-laubach.de
SUMMARY:Gebetstreff
DESCRIPTION:
URL:https://efg-laubach.de/termin/gebetstreff-28/
LOCATION:EFG Laubach\, Dörrenbergweg 36\, Laubach\, Hessen\, 35321\, Deutschland
END:VEVENT
BEGIN:VEVENT
DTSTART;TZID=Europe/Berlin:20260719T103000
DTEND;TZID=Europe/Berlin:20260719T120000
DTSTAMP:20260421T101924
CREATED:20260420T212311Z
LAST-MODIFIED:20260420T212311Z
UID:103107-1784457000-1784462400@efg-laubach.de
SUMMARY:Gottesdienst
DESCRIPTION:
URL:https://efg-laubach.de/termin/gottesdienst-22/
LOCATION:EFG Laubach\, Dörrenbergweg 36\, Laubach\, Hessen\, 35321\, Deutschland
END:VEVENT
BEGIN:VEVENT
DTSTART;TZID=Europe/Berlin:20260721T100000
DTEND;TZID=Europe/Berlin:20260721T120000
DTSTAMP:20260421T101924
CREATED:20260420T212311Z
LAST-MODIFIED:20260420T212311Z
UID:103111-1784628000-1784635200@efg-laubach.de
SUMMARY:Mutter Kind treffen
DESCRIPTION:
URL:https://efg-laubach.de/termin/mutter-kind-treffen-30/
END:VEVENT
BEGIN:VEVENT
DTSTART;TZID=Europe/Berlin:20260722T190000
DTEND;TZID=Europe/Berlin:20260722T203000
DTSTAMP:20260421T101924
CREATED:20260420T212311Z
LAST-MODIFIED:20260420T212311Z
UID:103108-1784746800-1784752200@efg-laubach.de
SUMMARY:Bibelabend
DESCRIPTION:
URL:https://efg-laubach.de/termin/bibelabend-23/
LOCATION:EFG Laubach\, Dörrenbergweg 36\, Laubach\, Hessen\, 35321\, Deutschland
END:VEVENT
BEGIN:VEVENT
DTSTART;TZID=Europe/Berlin:20260723T190000
DTEND;TZID=Europe/Berlin:20260723T210000
DTSTAMP:20260421T101924
CREATED:20260420T212312Z
LAST-MODIFIED:20260420T212312Z
UID:103112-1784833200-1784840400@efg-laubach.de
SUMMARY:Hauskreis Junge Erwachsene
DESCRIPTION:
URL:https://efg-laubach.de/termin/hauskreis-junge-erwachsene-27/
END:VEVENT
BEGIN:VEVENT
DTSTART;TZID=Europe/Berlin:20260726T100000
DTEND;TZID=Europe/Berlin:20260726T101500
DTSTAMP:20260421T101924
CREATED:20260420T212312Z
LAST-MODIFIED:20260420T212312Z
UID:103113-1785060000-1785060900@efg-laubach.de
SUMMARY:Gebetstreff
DESCRIPTION:
URL:https://efg-laubach.de/termin/gebetstreff-29/
LOCATION:EFG Laubach\, Dörrenbergweg 36\, Laubach\, Hessen\, 35321\, Deutschland
END:VEVENT
BEGIN:VEVENT
DTSTART;TZID=Europe/Berlin:20260726T103000
DTEND;TZID=Europe/Berlin:20260726T120000
DTSTAMP:20260421T101924
CREATED:20260420T212311Z
LAST-MODIFIED:20260420T212311Z
UID:103109-1785061800-1785067200@efg-laubach.de
SUMMARY:Gottesdienst
DESCRIPTION:
URL:https://efg-laubach.de/termin/gottesdienst-23/
LOCATION:EFG Laubach\, Dörrenbergweg 36\, Laubach\, Hessen\, 35321\, Deutschland
END:VEVENT
BEGIN:VEVENT
DTSTART;TZID=Europe/Berlin:20260728T100000
DTEND;TZID=Europe/Berlin:20260728T120000
DTSTAMP:20260421T101924
CREATED:20260420T212312Z
LAST-MODIFIED:20260420T212312Z
UID:103114-1785232800-1785240000@efg-laubach.de
SUMMARY:Mutter Kind treffen
DESCRIPTION:
URL:https://efg-laubach.de/termin/mutter-kind-treffen-31/
END:VEVENT
BEGIN:VEVENT
DTSTART;TZID=Europe/Berlin:20260729T190000
DTEND;TZID=Europe/Berlin:20260729T203000
DTSTAMP:20260421T101924
CREATED:20260420T212312Z
LAST-MODIFIED:20260420T212312Z
UID:103115-1785351600-1785357000@efg-laubach.de
SUMMARY:Bibelabend
DESCRIPTION:
URL:https://efg-laubach.de/termin/bibelabend-24/
LOCATION:EFG Laubach\, Dörrenbergweg 36\, Laubach\, Hessen\, 35321\, Deutschland
END:VEVENT
BEGIN:VEVENT
DTSTART;TZID=Europe/Berlin:20260730T190000
DTEND;TZID=Europe/Berlin:20260730T210000
DTSTAMP:20260421T101924
CREATED:20260420T212312Z
LAST-MODIFIED:20260420T212312Z
UID:103116-1785438000-1785445200@efg-laubach.de
SUMMARY:Hauskreis Junge Erwachsene
DESCRIPTION:
URL:https://efg-laubach.de/termin/hauskreis-junge-erwachsene-28/
END:VEVENT
END:VCALENDAR