BEGIN:VCALENDAR
VERSION:2.0
PRODID:-//EFG Laubach - ECPv6.15.17//NONSGML v1.0//EN
CALSCALE:GREGORIAN
METHOD:PUBLISH
X-WR-CALNAME:EFG Laubach
X-ORIGINAL-URL:https://efg-laubach.de
X-WR-CALDESC:Veranstaltungen für EFG Laubach
REFRESH-INTERVAL;VALUE=DURATION:PT1H
X-Robots-Tag:noindex
X-PUBLISHED-TTL:PT1H
BEGIN:VTIMEZONE
TZID:Europe/Berlin
BEGIN:DAYLIGHT
TZOFFSETFROM:+0100
TZOFFSETTO:+0200
TZNAME:CEST
DTSTART:20250330T010000
END:DAYLIGHT
BEGIN:STANDARD
TZOFFSETFROM:+0200
TZOFFSETTO:+0100
TZNAME:CET
DTSTART:20251026T010000
END:STANDARD
BEGIN:DAYLIGHT
TZOFFSETFROM:+0100
TZOFFSETTO:+0200
TZNAME:CEST
DTSTART:20260329T010000
END:DAYLIGHT
BEGIN:STANDARD
TZOFFSETFROM:+0200
TZOFFSETTO:+0100
TZNAME:CET
DTSTART:20261025T010000
END:STANDARD
BEGIN:DAYLIGHT
TZOFFSETFROM:+0100
TZOFFSETTO:+0200
TZNAME:CEST
DTSTART:20270328T010000
END:DAYLIGHT
BEGIN:STANDARD
TZOFFSETFROM:+0200
TZOFFSETTO:+0100
TZNAME:CET
DTSTART:20271031T010000
END:STANDARD
END:VTIMEZONE
BEGIN:VEVENT
DTSTART;TZID=Europe/Berlin:20260426T100000
DTEND;TZID=Europe/Berlin:20260426T101500
DTSTAMP:20260426T033634
CREATED:20260425T222201Z
LAST-MODIFIED:20260425T222441Z
UID:106083-1777197600-1777198500@efg-laubach.de
SUMMARY:Gebetstreff
DESCRIPTION:
URL:https://efg-laubach.de/termin/gebetstreff-17/
LOCATION:EFG Laubach\, Dörrenbergweg 36\, Laubach\, Hessen\, 35321\, Deutschland
END:VEVENT
BEGIN:VEVENT
DTSTART;TZID=Europe/Berlin:20260426T103000
DTEND;TZID=Europe/Berlin:20260426T120000
DTSTAMP:20260426T033634
CREATED:20260425T222202Z
LAST-MODIFIED:20260425T222441Z
UID:106085-1777199400-1777204800@efg-laubach.de
SUMMARY:Gottesdienst
DESCRIPTION:
URL:https://efg-laubach.de/termin/gottesdienst-14/
LOCATION:EFG Laubach\, Dörrenbergweg 36\, Laubach\, Hessen\, 35321\, Deutschland
END:VEVENT
BEGIN:VEVENT
DTSTART;TZID=Europe/Berlin:20260426T110000
DTEND;TZID=Europe/Berlin:20260426T120000
DTSTAMP:20260426T033634
CREATED:20260425T222201Z
LAST-MODIFIED:20260425T222441Z
UID:106084-1777201200-1777204800@efg-laubach.de
SUMMARY:Kinderstunde
DESCRIPTION:
URL:https://efg-laubach.de/termin/kinderstunde-13/
END:VEVENT
BEGIN:VEVENT
DTSTART;TZID=Europe/Berlin:20260428T100000
DTEND;TZID=Europe/Berlin:20260428T120000
DTSTAMP:20260426T033634
CREATED:20260425T222202Z
LAST-MODIFIED:20260425T222441Z
UID:106086-1777370400-1777377600@efg-laubach.de
SUMMARY:Mutter Kind treffen
DESCRIPTION:
URL:https://efg-laubach.de/termin/mutter-kind-treffen-18/
END:VEVENT
BEGIN:VEVENT
DTSTART;TZID=Europe/Berlin:20260429T190000
DTEND;TZID=Europe/Berlin:20260429T203000
DTSTAMP:20260426T033634
CREATED:20260425T222202Z
LAST-MODIFIED:20260425T222441Z
UID:106087-1777489200-1777494600@efg-laubach.de
SUMMARY:Bibelabend
DESCRIPTION:
URL:https://efg-laubach.de/termin/bibelabend-11/
LOCATION:EFG Laubach\, Dörrenbergweg 36\, Laubach\, Hessen\, 35321\, Deutschland
END:VEVENT
BEGIN:VEVENT
DTSTART;TZID=Europe/Berlin:20260430T170000
DTEND;TZID=Europe/Berlin:20260430T180000
DTSTAMP:20260426T033634
CREATED:20260425T222202Z
LAST-MODIFIED:20260425T222441Z
UID:106089-1777568400-1777572000@efg-laubach.de
SUMMARY:Teenkreis
DESCRIPTION:
URL:https://efg-laubach.de/termin/teenkreis-13/
END:VEVENT
BEGIN:VEVENT
DTSTART;TZID=Europe/Berlin:20260430T170000
DTEND;TZID=Europe/Berlin:20260430T180000
DTSTAMP:20260426T033634
CREATED:20260425T222202Z
LAST-MODIFIED:20260425T222441Z
UID:106091-1777568400-1777572000@efg-laubach.de
SUMMARY:Jungschar
DESCRIPTION:
URL:https://efg-laubach.de/termin/jungschar-13/
END:VEVENT
BEGIN:VEVENT
DTSTART;TZID=Europe/Berlin:20260430T190000
DTEND;TZID=Europe/Berlin:20260430T210000
DTSTAMP:20260426T033634
CREATED:20260425T222202Z
LAST-MODIFIED:20260425T222442Z
UID:106092-1777575600-1777582800@efg-laubach.de
SUMMARY:Hauskreis Junge Erwachsene
DESCRIPTION:
URL:https://efg-laubach.de/termin/hauskreis-junge-erwachsene-15/
END:VEVENT
END:VCALENDAR